BEGIN:VCALENDAR
VERSION:2.0
PRODID:-//Victorian Masters Athletics - ECPv5.3.2.1//NONSGML v1.0//EN
CALSCALE:GREGORIAN
METHOD:PUBLISH
X-WR-CALNAME:Victorian Masters Athletics
X-ORIGINAL-URL:https://vicmastersaths.org.au
X-WR-CALDESC:Events for Victorian Masters Athletics
BEGIN:VTIMEZONE
TZID:Australia/Melbourne
BEGIN:STANDARD
TZOFFSETFROM:+1100
TZOFFSETTO:+1000
TZNAME:AEST
DTSTART:20210403T160000
END:STANDARD
BEGIN:DAYLIGHT
TZOFFSETFROM:+1000
TZOFFSETTO:+1100
TZNAME:AEDT
DTSTART:20211002T160000
END:DAYLIGHT
END:VTIMEZONE
BEGIN:VEVENT
DTSTART;TZID=Australia/Melbourne:20210203T183000
DTEND;TZID=Australia/Melbourne:20210203T210000
DTSTAMP:20210301T042522
CREATED:20210112T222410Z
LAST-MODIFIED:20210112T222410Z
UID:8054-1612377000-1612386000@vicmastersaths.org.au
SUMMARY:Andy Salter Memorial Relay 2021
DESCRIPTION:The Andy Salter Relay has been a highlight of the Springvale / Noble Park calendar for many years. Also held on the same night is the Bert Warburton Memorial Walk Relay. \nThe Andy Salter Relay is run over 3.1km road course\, with four runners in each team completing one lap of the course. There are two divisions\, one for the Challenge teams and other for the Fun Run teams. \n  \nFind out more below
URL:https://vicmastersaths.org.au/event/andy-salter-memorial-relay-2021/
LOCATION:Ross Reserve\, Noble Park\, Ross Reserve\, Memorial Drive\, Noble Park\, Victoria\, 3174\, Australia
CATEGORIES:masters,VMA
ATTACH;FMTTYPE=image/jpeg:https://vicmastersaths.org.au/wp-content/uploads/2016/01/AndySalter.jpg
END:VEVENT
END:VCALENDAR