BEGIN:VCALENDAR
VERSION:2.0
PRODID:-//Victorian Masters Athletics - ECPv4.9.13//NONSGML v1.0//EN
CALSCALE:GREGORIAN
METHOD:PUBLISH
X-WR-CALNAME:Victorian Masters Athletics
X-ORIGINAL-URL:https://vicmastersaths.org.au
X-WR-CALDESC:Events for Victorian Masters Athletics
BEGIN:VTIMEZONE
TZID:Australia/Melbourne
BEGIN:STANDARD
TZOFFSETFROM:+1100
TZOFFSETTO:+1000
TZNAME:AEST
DTSTART:20200404T160000
END:STANDARD
BEGIN:DAYLIGHT
TZOFFSETFROM:+1000
TZOFFSETTO:+1100
TZNAME:AEDT
DTSTART:20201003T160000
END:DAYLIGHT
END:VTIMEZONE
BEGIN:VEVENT
DTSTART;VALUE=DATE:20200301
DTEND;VALUE=DATE:20200302
DTSTAMP:20200228T034234
CREATED:20200106T055433Z
LAST-MODIFIED:20200107T004845Z
UID:7834-1583020800-1583107199@vicmastersaths.org.au
SUMMARY:2020 VMA T&F Pentathlon
DESCRIPTION:The 2020 VMA Track and Field Pentathlon will this year be held at Duncan McKinnon Reserve\nOnline Entries now open\nFlyer and Paper entry\n
URL:https://vicmastersaths.org.au/event/2020-vma-tf-pentathlon-2-2/
LOCATION:Duncan Mackinnon Reserve\, Crosbie Road\, Murrumbeena\, Victoria\, 3163\, Australia
CATEGORIES:masters,multi-event,VMA
ATTACH;FMTTYPE=image/jpeg:https://vicmastersaths.org.au/wp-content/uploads/2020/01/2020-VMA-TF-Pent-LOGO.jpg
ORGANIZER;CN="Russ%20Dickenson":MAILTO:dicko@iinet.net.au
END:VEVENT
BEGIN:VEVENT
DTSTART;VALUE=DATE:20200314
DTEND;VALUE=DATE:20200316
DTSTAMP:20200228T034234
CREATED:20200106T020207Z
LAST-MODIFIED:20200128T024621Z
UID:7828-1584144000-1584316799@vicmastersaths.org.au
SUMMARY:2020 Victorian Masters T&F Championships
DESCRIPTION:2020 Victorian Masters T&F Championships \nDate: Saturday 14 – Sunday 15 March\, 2020 \nEntry Details : TBA \nCancellation/Refund: Entry fees will only be refunded if a cancellation is received in writing to prior to entries closing. Any refunds after this time will be processed only if the written notification is accompanied with a medical certificate. \nAge Groups: Age will be taken from 14 March\, 2020– age groups will be in 5 year spans (30-34\, 35-39\, 40-44 etc.) \n  \nENTRIES NOW OPEN\nDRAFT TIMETABLE\n
URL:https://vicmastersaths.org.au/event/2020-victorian-masters-tf-championships-2-2-2/
LOCATION:Bendigo Athletic Track\, 56 Retreat Road\, Bendigo\, Victoria\, Australia
CATEGORIES:AV,VMA
ATTACH;FMTTYPE=image/jpeg:https://vicmastersaths.org.au/wp-content/uploads/2020/01/FLYER-2020-VMA-TF-CHAMPS.jpg
END:VEVENT
BEGIN:VEVENT
DTSTART;VALUE=DATE:20200322
DTEND;VALUE=DATE:20200323
DTSTAMP:20200228T034234
CREATED:20200107T010043Z
LAST-MODIFIED:20200108T051055Z
UID:7840-1584835200-1584921599@vicmastersaths.org.au
SUMMARY:2020 VMA Throws Pentathlon
DESCRIPTION:The 2020 VMA Throws Pentathlon – Duncan McKinnon Reserve –  Sunday 22nd March\nEntries now open\nPaper Entry and Flyer\n
URL:https://vicmastersaths.org.au/event/2020-vma-throws-pentathlon-2-2/
LOCATION:Duncan MacKinnon Reserve\, Crosbie Road\, Murrumbeena\, Victoria\, 3163\, Australia
CATEGORIES:masters,multi-event,VMA
ATTACH;FMTTYPE=image/jpeg:https://vicmastersaths.org.au/wp-content/uploads/2020/01/2020-VMA-Throws-Pent-LOGO.jpg
ORGANIZER;CN="Russ%20Dickenson":MAILTO:dicko@iinet.net.au
END:VEVENT
BEGIN:VEVENT
DTSTART;VALUE=DATE:20200410
DTEND;VALUE=DATE:20200414
DTSTAMP:20200228T034234
CREATED:20200107T032913Z
LAST-MODIFIED:20200107T033721Z
UID:7843-1586476800-1586822399@vicmastersaths.org.au
SUMMARY:2020 AMA Track and Field Championships - Brisbane
DESCRIPTION:In 2020 Brisbane will host the annual Australian Masters Athletics Championships. The Championships will be held at QSAC\, which is the major athletics facility in Queensland.\nLock the dates in. \nEntries now open.\nEvent Website\n  \n
URL:https://vicmastersaths.org.au/event/2020-ama-track-and-field-championships-2/
LOCATION:QSAC\, Kessels Road\, Nathan\, Queensland\, Australia
CATEGORIES:AMA
ATTACH;FMTTYPE=image/jpeg:https://vicmastersaths.org.au/wp-content/uploads/2016/01/002-e1510025935984.jpg
END:VEVENT
END:VCALENDAR